Workbook

Sheet Bulletin
A1: BULLETIN DE PAIE — SECTEUR BTP (FRANCE)
A2: Remplir uniquement les cellules JAUNES (texte bleu). Les cotisations sont calculées à partir de l'onglet « Parametres » (PMSS, taux URSSAF, Agirc-Arrco, CSG/CRDS, PRO BTP, CIBTP).
A4: Employeur / raison sociale | B4: ENTREPRISE BTP SAS | D4: Salarié | E4: Jean DUPONT
A5: SIRET | B5: 000 000 000 00000 | D5: Emploi / classification | E5: Maçon N3P1
A6: Code APE / NAF | B6: 4120A | D6: Période de paie | E6: Mois de …… 20..
A7: Convention collective | B7: Bâtiment — ouvriers (IDCC ....) | D7: Statut | E7: Ouvrier
A9: ÉLÉMENTS DE RÉMUNÉRATION | B9: Base | C9: Taux | D9: Gain (€)
A10: Salaire de base | B10: 151.67 | C10: 14.5 | D10: =IFERROR(B10*C10,0) -> 2199.215
A11: Heures supplémentaires 25 % | B11: 8 | C11: =C10*1.25 -> 18.125 | D11: =IFERROR(B11*C11,0) -> 145
A12: Heures supplémentaires 50 % | B12: 0 | C12: =C10*1.5 -> 21.75 | D12: =IFERROR(B12*C12,0) -> 0
A13: Prime de rendement / chantier | D13: 150
A14: Indemnité de trajet (zone) | B14: 20 | C14: 4.5 | D14: =IFERROR(B14*C14,0) -> 90
A15: Indemnité de transport | B15: 20 | C15: 3.2 | D15: =IFERROR(B15*C15,0) -> 64
A16: Indemnité de repas / panier | B16: 20 | C16: 11 | D16: =IFERROR(B16*C16,0) -> 220
A17: Total indemnités non soumises (trajet, transport, panier) | D17: =D14+D15+D16 -> 374
A18: SALAIRE BRUT SOUMIS À COTISATIONS | D18: =SUM(D10:D13) -> 2494.215
A20: COTISATIONS ET CONTRIBUTIONS | B20: Base | C20: Taux salarial | D20: Part salariale (€) | E20: Taux patronal | F20: Part patronale (€)
A21: Santé — maladie, maternité, invalidité | B21: =$D$18 -> 2494.215 | E21: =Parametres!B12 -> 0.07 | F21: =ROUND(B21*E21,2) -> 174.6
A22: Vieillesse plafonnée (tranche 1) | B22: =MIN($D$18,Parametres!$B$4) -> 2494.215 | C22: =Parametres!B6 -> 0.069 | D22: =ROUND(B22*C22,2) -> 172.1 | E22: =Parametres!B13 -> 0.0855 | F22: =ROUND(B22*E22,2) -> 213.26
A23: Vieillesse déplafonnée | B23: =$D$18 -> 2494.215 | C23: =Parametres!B7 -> 0.004 | D23: =ROUND(B23*C23,2) -> 9.98 | E23: =Parametres!B14 -> 0.0214 | F23: =ROUND(B23*E23,2) -> 53.38
A24: Allocations familiales | B24: =$D$18 -> 2494.215 | E24: =Parametres!B15 -> 0.0345 | F24: =ROUND(B24*E24,2) -> 86.05
A25: Accidents du travail (taux BTP) | B25: =$D$18 -> 2494.215 | E25: =Parametres!B16 -> 0.045 | F25: =ROUND(B25*E25,2) -> 112.24
A26: Retraite complémentaire Agirc-Arrco T1 | B26: =MIN($D$18,Parametres!$B$4) -> 2494.215 | C26: =Parametres!B8 -> 0.0315 | D26: =ROUND(B26*C26,2) -> 78.57 | E26: =Parametres!B17 -> 0.0472 | F26: =ROUND(B26*E26,2) -> 117.73
A27: Contribution d'équilibre général (CEG) T1 | B27: =MIN($D$18,Parametres!$B$4) -> 2494.215 | C27: =Parametres!B9 -> 0.0086 | D27: =ROUND(B27*C27,2) -> 21.45 | E27: =Parametres!B18 -> 0.0129 | F27: =ROUND(B27*E27,2) -> 32.18
A28: Assurance chômage + AGS | B28: =$D$18 -> 2494.215 | E28: =Parametres!B19 -> 0.043 | F28: =ROUND(B28*E28,2) -> 107.25
A29: Prévoyance PRO BTP (ouvriers) | B29: =$D$18 -> 2494.215 | C29: =Parametres!B10 -> 0.014 | D29: =ROUND(B29*C29,2) -> 34.92 | E29: =Parametres!B20 -> 0.021 | F29: =ROUND(B29*E29,2) -> 52.38
A30: Congés payés — caisse CIBTP | B30: =$D$18 -> 2494.215 | E30: =Parametres!B21 -> 0.198 | F30: =ROUND(B30*E30,2) -> 493.85
A31: OPPBTP — prévention BTP | B31: =$D$18 -> 2494.215 | E31: =Parametres!B22 -> 0.0011 | F31: =ROUND(B31*E31,2) -> 2.74
A32: Formation professionnelle et apprentissage | B32: =$D$18 -> 2494.215 | E32: =Parametres!B23 -> 0.0168 | F32: =ROUND(B32*E32,2) -> 41.9
A33: FNAL | B33: =$D$18 -> 2494.215 | E33: =Parametres!B24 -> 0.001 | F33: =ROUND(B33*E33,2) -> 2.49
A34: CSG déductible (98,25 % du brut) | B34: =$D$18*Parametres!$B$27 -> 2450.5662 | C34: =Parametres!B28 -> 0.068 | D34: =ROUND(B34*C34,2) -> 166.64
A35: CSG non déductible + CRDS | B35: =$D$18*Parametres!$B$27 -> 2450.5662 | C35: =Parametres!B29 -> 0.029 | D35: =ROUND(B35*C35,2) -> 71.07
A36: TOTAL DES COTISATIONS | D36: =SUM(D21:D35) -> 554.73 | F36: =SUM(F21:F35) -> 1490.05
A38: MONTANT NET SOCIAL | D38: =ROUND(D18-D36,2) -> 1939.49
A39: Net imposable (net social + CSG/CRDS non déductible) | D39: =ROUND(D38+D35,2) -> 2010.56
A40: Indemnités non soumises à cotisations | D40: =D17 -> 374
A41: Taux de prélèvement à la source | D41: 0.036
A42: Prélèvement à la source (impôt sur le revenu) | D42: =ROUND(D39*D41,2) -> 72.38
A43: Acomptes, avances, saisies | D43: 0
A45: NET À PAYER AU SALARIÉ | D45: =ROUND(D38+D40-D42-D43,2) -> 2241.11
...

Sheet Parametres
A1: PARAMÈTRES DE PAIE — FRANCE 2026
A3: PLAFONDS ET SEUILS
A4: Plafond mensuel de la sécurité sociale (PMSS) | B4: 4005 | C4: € / mois
A5: SMIC horaire brut | B5: 12.02 | C5: € / heure
A6: Vieillesse plafonnée (T1) | B6: 0.069 | C6: sur base plafonnée PMSS
A7: Vieillesse déplafonnée | B7: 0.004 | C7: sur totalité du brut
A8: Agirc-Arrco tranche 1 | B8: 0.0315 | C8: sur base plafonnée PMSS
A9: CEG tranche 1 | B9: 0.0086 | C9: sur base plafonnée PMSS
A10: Prévoyance PRO BTP (part salariale) | B10: 0.014 | C10: variable selon contrat
A11: TAUX PATRONAUX
A12: Maladie / maternité / invalidité | B12: 0.07 | C12: 13 % hors réduction
A13: Vieillesse plafonnée (T1) | B13: 0.0855 | C13: sur base plafonnée PMSS
A14: Vieillesse déplafonnée | B14: 0.0214 | C14: sur totalité du brut
A15: Allocations familiales | B15: 0.0345 | C15: 5,25 % au-delà de 3,5 SMIC
A16: Accidents du travail (AT/MP) — BTP | B16: 0.045 | C16: taux notifié par la CARSAT
A17: Agirc-Arrco tranche 1 | B17: 0.0472 | C17: sur base plafonnée PMSS
A18: CEG tranche 1 | B18: 0.0129 | C18: sur base plafonnée PMSS
A19: Assurance chômage + AGS | B19: 0.043 | C19: 4,05 % + 0,25 %
A20: Prévoyance PRO BTP (part patronale) | B20: 0.021 | C20: variable selon contrat
A21: Congés payés — caisse CIBTP | B21: 0.198 | C21: spécifique BTP, variable par caisse
A22: OPPBTP — prévention | B22: 0.0011 | C22: 0,11 % du brut
A23: Formation professionnelle et apprentissage | B23: 0.0168 | C23: selon effectif
A24: FNAL | B24: 0.001 | C24: 0,50 % si effectif >= 50
A26: CSG / CRDS
A27: Assiette CSG/CRDS (abattement 1,75 %) | B27: 0.9825 | C27: dans la limite de 4 PASS
A28: CSG déductible | B28: 0.068
A29: CSG non déductible + CRDS | B29: 0.029 | C29: 2,40 % + 0,50 %
A31: Sources : URSSAF, Agirc-Arrco, CIBTP, PRO BTP, OPPBTP — barèmes 2026. À vérifier chaque 1er janvier et à chaque loi de financement de la sécurité sociale.
